BEGIN:VCALENDAR
PRODID:-//github.com/rianjs/ical.net//NONSGML ical.net 4.0//EN
VERSION:2.0
BEGIN:VEVENT
DESCRIPTION:Details:\nhttps://bbyo.org/bbyo-near-you/regions/north-florida
 -region/tampa-sarasota-topgolf-fallfest\n\nSummary:\nJoin Tampa and Saras
 ota BBYO chapters for a par-TEE that you won't forget! Enjoy two hours of
  unlimited play and food at TopGolf with your friends. BBYO FallFest is o
 pen to ALL Jewish teens grades 8-12!
DTEND:20191103T160000
DTSTAMP:20260419T213550Z
DTSTART:20191103T140000
LOCATION:Brandon  Florida
SEQUENCE:0
SUMMARY:Tampa/Sarasota TopGolf FallFest
UID:5aca1bf4-0053-441f-a267-635429ae4858
END:VEVENT
END:VCALENDAR
