BEGIN:VCALENDAR
PRODID:-//github.com/rianjs/ical.net//NONSGML ical.net 4.0//EN
VERSION:2.0
BEGIN:VEVENT
DESCRIPTION:Details:\nhttps://bbyo.org/bbyo-near-you/regions/pacific-weste
 rn-region/avirah-tovah/av-tov-chapter-convention
DTEND:20221211T103000
DTSTAMP:20260420T153229Z
DTSTART:20221210T150000
LOCATION:Newport Beach California
SEQUENCE:0
SUMMARY:Av Tov Chapter Convention
UID:a4ad70f9-c6db-4138-bfc5-f0e3517b6268
END:VEVENT
END:VCALENDAR
