BEGIN:VCALENDAR
PRODID:-//github.com/rianjs/ical.net//NONSGML ical.net 4.0//EN
VERSION:2.0
BEGIN:VEVENT
DESCRIPTION:Details:\nhttps://bbyo.org/bbyo-near-you/regions/delta-region/
 delta-regionals-execs-december-2023
DTEND:20231204T210000
DTSTAMP:20260425T183356Z
DTSTART:20231204T200000
LOCATION:Zoom
SEQUENCE:0
SUMMARY:Delta Regionals Execs December 2023
UID:27734a2e-19e9-43c5-afe4-b28603b91559
END:VEVENT
END:VCALENDAR
