BEGIN:VCALENDAR
PRODID:-//github.com/rianjs/ical.net//NONSGML ical.net 4.0//EN
VERSION:2.0
BEGIN:VEVENT
DESCRIPTION:Details:\nhttps://bbyo.org/bbyo-near-you/regions/keystone-moun
 tain-region/kmr-s-trivia-kickoff\n\nSummary:\nJoin KMR from 4pm – 5pm on 
 September 25th for Virtual Trivia with the Alephs!
DTEND:20200924T130000
DTSTAMP:20260420T131538Z
DTSTART:20200924T120000
LOCATION:
SEQUENCE:0
SUMMARY:KMR's Trivia Kickoff
UID:804b58f1-1226-4cf1-8826-a5f338a5d771
END:VEVENT
END:VCALENDAR
