BEGIN:VCALENDAR
PRODID:-//github.com/rianjs/ical.net//NONSGML ical.net 4.0//EN
VERSION:2.0
BEGIN:VEVENT
DESCRIPTION:Details:\nhttps://bbyo.org/bbyo-near-you/regions/north-texas-o
 klahoma-region/steering-admin-meeting-1
DTEND:20240929T143000
DTSTAMP:20260423T195734Z
DTSTART:20240929T130000
LOCATION:Dallas Texas
SEQUENCE:0
SUMMARY:Steering Admin Meeting #1
UID:1407076b-3160-4d28-b832-afa804185857
END:VEVENT
END:VCALENDAR
