BEGIN:VCALENDAR
PRODID:-//github.com/rianjs/ical.net//NONSGML ical.net 4.0//EN
VERSION:2.0
BEGIN:VEVENT
DESCRIPTION:Details:\nhttps://bbyo.org/bbyo-near-you/regions/lake-ontario-
 region/holocaust-program-paper-clips-and-speaker-wed
DTEND:20061108T200000
DTSTAMP:20260422T143911Z
DTSTART:20061108T173000
LOCATION:BBYO Office
SEQUENCE:0
SUMMARY:Holocaust Program - Paper Clips and Speaker - Wed. Nov. 8
UID:479f04e4-ffbd-44fa-baa0-4f5d906e7512
END:VEVENT
END:VCALENDAR
