BEGIN:VCALENDAR
PRODID:-//github.com/rianjs/ical.net//NONSGML ical.net 4.0//EN
VERSION:2.0
BEGIN:VEVENT
DESCRIPTION:Details:\nhttps://bbyo.org/bbyo-near-you/regions/wisconsin-reg
 ion/b-sheret-fall-kickoff
DTEND:20240922T170000
DTSTAMP:20260422T221451Z
DTSTART:20240922T150000
LOCATION:Mequon Wisconsin
SEQUENCE:0
SUMMARY:B'sheret Fall Kickoff
UID:9c65f6f2-cdcd-492b-8e93-bfc66e9f74b8
END:VEVENT
END:VCALENDAR
