BEGIN:VCALENDAR
PRODID:-//github.com/rianjs/ical.net//NONSGML ical.net 4.0//EN
VERSION:2.0
BEGIN:VEVENT
DESCRIPTION:Details:\nhttps://bbyo.org/bbyo-near-you/regions/delta-region/
 knoxville-transportation-winter-convention\n\nSummary:\nTransportation to
  and from convention for Knoxville teens.
DTEND:20200120T110000
DTSTAMP:20260423T042647Z
DTSTART:20200117T180000
LOCATION:Arnstein Jewish Community Center
SEQUENCE:0
SUMMARY:Knoxville Transportation - Winter Convention
UID:e68c303b-f46c-410f-8be3-e3a4f0839162
END:VEVENT
END:VCALENDAR
