BEGIN:VCALENDAR
PRODID:-//github.com/rianjs/ical.net//NONSGML ical.net 4.0//EN
VERSION:2.0
BEGIN:VEVENT
DESCRIPTION:Details:\nhttps://bbyo.org/bbyo-near-you/regions/ohio-northern
 -region/regional-convention-saturday-night\n\nSummary:\n8th Graders who d
 id not attend AIT/MIT can join us Saturday Night from 6:15-11:30 pm for H
 avdallah\, the RC Banquet and the Dance for a cost of $45.
DTEND:20190518T233000
DTSTAMP:20260423T002000Z
DTSTART:20190518T181500
LOCATION:Cleveland  Ohio
SEQUENCE:0
SUMMARY:Regional Convention Saturday Night
UID:07934abe-c573-4a3e-a2c0-4bc0e36d7fe2
END:VEVENT
END:VCALENDAR
