BEGIN:VCALENDAR
PRODID:-//github.com/rianjs/ical.net//NONSGML ical.net 4.0//EN
VERSION:2.0
BEGIN:VEVENT
DESCRIPTION:Details:\nhttps://bbyo.org/bbyo-near-you/regions/south-jersey-
 region/sjr-fall-board-retreat\n\nSummary:\nFall Board Retreat
DTEND:20190908T120000
DTSTAMP:20260423T224854Z
DTSTART:20190907T170000
LOCATION:Brigantine New Jersey
SEQUENCE:0
SUMMARY:SJR Fall Board Retreat
UID:b9e40db0-d721-44d2-9369-ae335fd24040
END:VEVENT
END:VCALENDAR
