BEGIN:VCALENDAR
PRODID:-//github.com/rianjs/ical.net//NONSGML ical.net 4.0//EN
VERSION:2.0
BEGIN:VEVENT
DESCRIPTION:Details:\nhttps://bbyo.org/bbyo-near-you/regions/northern-regi
 on-east-baltimore-council/glow-dance-mm16
DTEND;VALUE=DATE:20160206
DTSTAMP:20260425T194534Z
DTSTART;VALUE=DATE:20160206
LOCATION:
SEQUENCE:0
SUMMARY:Glow Dance MM16
UID:ce2c468a-a0ea-43b6-8647-0ce8ed48517b
END:VEVENT
END:VCALENDAR
