BEGIN:VCALENDAR
PRODID:-//github.com/rianjs/ical.net//NONSGML ical.net 4.0//EN
VERSION:2.0
BEGIN:VEVENT
DESCRIPTION:Details:\nhttps://bbyo.org/bbyo-near-you/regions/delta-region/
 nashville-shabbat
DTEND;VALUE=DATE:20170520
DTSTAMP:20260422T202409Z
DTSTART;VALUE=DATE:20170519
LOCATION:
SEQUENCE:0
SUMMARY:Nashville Shabbat
UID:3cf62b17-1f30-4911-8685-166f3d2c9520
END:VEVENT
END:VCALENDAR
