BEGIN:VCALENDAR
PRODID:-//github.com/rianjs/ical.net//NONSGML ical.net 4.0//EN
VERSION:2.0
BEGIN:VEVENT
DESCRIPTION:Details:\nhttps://bbyo.org/bbyo-near-you/regions/wisconsin-reg
 ion/wi-chapter-meeting-2-27-17
DTEND;VALUE=DATE:20170227
DTSTAMP:20260419T123145Z
DTSTART;VALUE=DATE:20170227
LOCATION:
SEQUENCE:0
SUMMARY:WI - Chapter Meeting 2.27.17
UID:17125d9e-f796-4d7a-9c87-7c857a42d9eb
END:VEVENT
END:VCALENDAR
