BEGIN:VCALENDAR
PRODID:-//github.com/rianjs/ical.net//NONSGML ical.net 4.0//EN
VERSION:2.0
BEGIN:VEVENT
DESCRIPTION:Details:\nhttps://bbyo.org/bbyo-near-you/regions/michigan-regi
 on/mi-regional-convention-2016-regular-reg-(pc-3010)
DTEND;VALUE=DATE:20161229
DTSTAMP:20260420T180407Z
DTSTART;VALUE=DATE:20161226
LOCATION:JCC
SEQUENCE:0
SUMMARY:MI Regional Convention 2016 REGULAR REG (PC:3010)
UID:05e5e1fc-140c-4557-a2ae-46a696a91bcf
END:VEVENT
END:VCALENDAR
