BEGIN:VCALENDAR
PRODID:-//github.com/rianjs/ical.net//NONSGML ical.net 4.0//EN
VERSION:2.0
BEGIN:VEVENT
DESCRIPTION:Details:\nhttps://bbyo.org/bbyo-near-you/regions/nassau-suffol
 k-region/nsr-winter-convention-2023
DTEND:20231119T170000
DTSTAMP:20260425T182956Z
DTSTART:20231117T100000
LOCATION:
SEQUENCE:0
SUMMARY:NSR Winter Convention 2023
UID:d088b681-60f5-495a-98b7-c777ea7ca1d7
END:VEVENT
END:VCALENDAR
