BEGIN:VCALENDAR
PRODID:-//github.com/rianjs/ical.net//NONSGML ical.net 4.0//EN
VERSION:2.0
BEGIN:VEVENT
DESCRIPTION:Details:\nhttps://bbyo.org/bbyo-near-you/regions/lonestar-regi
 on/great-houston-council-walkdowns-ic-weekend-diy-din\n\nSummary:\nGreate
 r Houston Council's Annual Walkdowns Ceremony will take place on Saturday
 \, February 13th at 7:00 p.m. virtually. In place of the normal chapter o
 vernights\, chapters will be gathering o
DTEND:20210213T213000
DTSTAMP:20260421T083610Z
DTSTART:20210213T190000
LOCATION:Kit Pick-Up at the Merfish + Zoom
SEQUENCE:0
SUMMARY:Great Houston Council  Walkdowns +  IC Weekend DIY Dinner
UID:ea3bf832-2904-4c3a-839a-3745df2cedde
END:VEVENT
END:VCALENDAR
