BEGIN:VCALENDAR
PRODID:-//github.com/rianjs/ical.net//NONSGML ical.net 4.0//EN
VERSION:2.0
BEGIN:VEVENT
DESCRIPTION:Details:\nhttps://bbyo.org/bbyo-near-you/regions/manhattan-reg
 ion/aza-nfc-championship-watchparty
DTEND:20240128T210000
DTSTAMP:20260423T200216Z
DTSTART:20240128T183000
LOCATION:New York New York
SEQUENCE:0
SUMMARY:AZA NFC Championship Watchparty
UID:50fcce74-e060-4134-8ffc-8462d4774381
END:VEVENT
END:VCALENDAR
