BEGIN:VCALENDAR
PRODID:-//github.com/rianjs/ical.net//NONSGML ical.net 4.0//EN
VERSION:2.0
BEGIN:VEVENT
DESCRIPTION:Details:\nhttps://bbyo.org/bbyo-near-you/regions/pacific-weste
 rn-region/north-county-sd-bbyo-info-session
DTEND:20230430T150000
DTSTAMP:20260420T153403Z
DTSTART:20230430T140000
LOCATION:Encinitas California
SEQUENCE:0
SUMMARY:NORTH COUNTY SD BBYO INFO SESSION
UID:ab81cec8-aaad-46a7-8b6b-aff04d5a2d7f
END:VEVENT
END:VCALENDAR
