BEGIN:VCALENDAR
PRODID:-//github.com/rianjs/ical.net//NONSGML ical.net 4.0//EN
VERSION:2.0
BEGIN:VEVENT
DESCRIPTION:Details:\nhttps://bbyo.org/bbyo-near-you/regions/pacific-weste
 rn-region/pwr-fall-23-regional-kickoff-sd-safari-park\n\nSummary:\nCome k
 ickoff the new year with PWR and all the animals at the San Diego Zoo Saf
 ari Park on August 27th in San Diego!
DTEND:20230827T163000
DTSTAMP:20260422T083305Z
DTSTART:20230827T110000
LOCATION:Escondido California
SEQUENCE:0
SUMMARY:PWR Fall '23 Regional Kickoff- SD Safari Park
UID:cb6ca294-f8c5-4783-bf0b-d236e33efc5b
END:VEVENT
END:VCALENDAR
