BEGIN:VCALENDAR
PRODID:-//github.com/rianjs/ical.net//NONSGML ical.net 4.0//EN
VERSION:2.0
BEGIN:VEVENT
DESCRIPTION:Details:\nhttps://bbyo.org/bbyo-near-you/regions/nassau-suffol
 k-region/commack-bus-to-kickoff-2-0-winter-wonderland-(5000\n\nSummary:\n
 We will have a bus departing the Suffolk Y JCC at 6pm\, returning at appr
 oximately 11pm.  We are prepared to arrange additional buses should more 
 spots open up.
DTEND:20170115T230000
DTSTAMP:20260423T093227Z
DTSTART:20170115T180000
LOCATION:Suffolk Y JCC
SEQUENCE:0
SUMMARY:Commack Bus to Kickoff 2.0 Winter Wonderland (5000)
UID:e9c2d005-5607-4adb-8e3f-fe7fc78a1073
END:VEVENT
END:VCALENDAR
