BEGIN:VCALENDAR
PRODID:-//github.com/rianjs/ical.net//NONSGML ical.net 4.0//EN
VERSION:2.0
BEGIN:VEVENT
DESCRIPTION:Details:\nhttps://bbyo.org/bbyo-near-you/regions/evergreen-reg
 ion/cooking-class-with-seattle-bbyo!
DTEND:20180304T000100
DTSTAMP:20260425T183301Z
DTSTART;VALUE=DATE:20180304
LOCATION:
SEQUENCE:0
SUMMARY:Cooking Class with Seattle BBYO!
UID:7b726f65-e5ef-4be8-8251-df0b7456bf8f
END:VEVENT
END:VCALENDAR
