BEGIN:VCALENDAR
PRODID:-//github.com/rianjs/ical.net//NONSGML ical.net 4.0//EN
VERSION:2.0
BEGIN:VEVENT
DESCRIPTION:Details:\nhttps://bbyo.org/bbyo-near-you/regions/miami-region/
 fishing-trip
DTEND;VALUE=DATE:20160515
DTSTAMP:20260423T114151Z
DTSTART;VALUE=DATE:20160515
LOCATION:
SEQUENCE:0
SUMMARY:Fishing Trip
UID:917b1389-776a-470f-8453-6d105cbfe995
END:VEVENT
END:VCALENDAR
