BEGIN:VCALENDAR
PRODID:-//github.com/rianjs/ical.net//NONSGML ical.net 4.0//EN
VERSION:2.0
BEGIN:VEVENT
DESCRIPTION:Details:\nhttps://bbyo.org/bbyo-near-you/regions/rocky-mountai
 n-region/francis-weisbart-jacobs/rosh-hashanah-hike-at-chautauqua
DTEND:20230917T170000
DTSTAMP:20260423T022454Z
DTSTART:20230917T150000
LOCATION:Boulder Colorado
SEQUENCE:0
SUMMARY:Rosh Hashanah Hike at Chautauqua
UID:2e360bfb-8b2a-47ef-89c6-6bca39593801
END:VEVENT
END:VCALENDAR
