BEGIN:VCALENDAR
PRODID:-//github.com/rianjs/ical.net//NONSGML ical.net 4.0//EN
VERSION:2.0
BEGIN:VEVENT
DESCRIPTION:Details:\nhttps://bbyo.org/bbyo-near-you/regions/northern-regi
 on-east-dc-council/march-7-monday-meet-up
DTEND:20220307T200000
DTSTAMP:20260419T122951Z
DTSTART:20220307T190000
LOCATION:
SEQUENCE:0
SUMMARY:March 7 Monday Meet Up
UID:ad8873b9-049c-4864-a2dd-a7d3138e8ab6
END:VEVENT
END:VCALENDAR
