BEGIN:VCALENDAR
PRODID:-//github.com/rianjs/ical.net//NONSGML ical.net 4.0//EN
VERSION:2.0
BEGIN:VEVENT
DESCRIPTION:Details:\nhttps://bbyo.org/bbyo-near-you/regions/gold-coast-re
 gion/gcr-fall-regional-convention
DTEND:20241103T160000
DTSTAMP:20260423T200028Z
DTSTART:20241102T193000
LOCATION:David Posnack JCC
SEQUENCE:0
SUMMARY:GCR Fall Regional Convention
UID:2c05e489-aa4f-4737-a74c-d165748fec89
END:VEVENT
END:VCALENDAR
