BEGIN:VCALENDAR
PRODID:-//github.com/rianjs/ical.net//NONSGML ical.net 4.0//EN
VERSION:2.0
BEGIN:VEVENT
DESCRIPTION:Details:\nhttps://bbyo.org/bbyo-near-you/regions/wisconsin-reg
 ion/aza-teen-connection-brewers-game\n\nSummary:\nAZA and Teen Connection
  are going to the Brewers- Diamondbacks game at Miller Park.  $20 include
 s a ticket\, ride to Miller Park\, a Best Kosher Hot Dog\, and a soda!
DTEND:20060409T163000
DTSTAMP:20260419T145929Z
DTSTART:20060409T120000
LOCATION:Miller Park
SEQUENCE:0
SUMMARY:AZA/ Teen Connection Brewers' Game
UID:dbe367af-9cfb-496e-9992-fd9bb0fd9ec3
END:VEVENT
END:VCALENDAR
