BEGIN:VCALENDAR
PRODID:-//github.com/rianjs/ical.net//NONSGML ical.net 4.0//EN
VERSION:2.0
BEGIN:VEVENT
DESCRIPTION:Details:\nhttps://bbyo.org/bbyo-near-you/regions/great-midwest
 -region/gmr-bbg-yoga-@-willis-tower
DTEND:20171112T000100
DTSTAMP:20260421T222616Z
DTSTART;VALUE=DATE:20171112
LOCATION:
SEQUENCE:0
SUMMARY:GMR BBG Yoga @ Willis Tower
UID:661063b9-2120-4146-a385-f9e3458e6c2e
END:VEVENT
END:VCALENDAR
