BEGIN:VCALENDAR
PRODID:-//github.com/rianjs/ical.net//NONSGML ical.net 4.0//EN
VERSION:2.0
BEGIN:VEVENT
DESCRIPTION:Details:\nhttps://bbyo.org/bbyo-near-you/regions/rocky-mountai
 n-region/denver-chapter-meeting-(3)
DTEND:20200225T203000
DTSTAMP:20260419T185746Z
DTSTART:20200225T190000
LOCATION:Denver Colorado
SEQUENCE:0
SUMMARY:Denver Chapter Meeting
UID:187c3db9-efc5-4c04-bf82-de64e511fefe
END:VEVENT
END:VCALENDAR
