BEGIN:VCALENDAR
PRODID:-//github.com/rianjs/ical.net//NONSGML ical.net 4.0//EN
VERSION:2.0
BEGIN:VEVENT
DESCRIPTION:Details:\nhttps://bbyo.org/bbyo-near-you/regions/northern-regi
 on-east-dc-council/bbgg-yoga
DTEND:20220328T200000
DTSTAMP:20260424T063819Z
DTSTART:20220328T190000
LOCATION:Bender JCC
SEQUENCE:0
SUMMARY:BBGG Yoga
UID:b01c1d32-68a5-4486-9826-50b2c0143fb2
END:VEVENT
END:VCALENDAR
