BEGIN:VCALENDAR
PRODID:-//github.com/rianjs/ical.net//NONSGML ical.net 4.0//EN
VERSION:2.0
BEGIN:VEVENT
DESCRIPTION:Details:\nhttps://bbyo.org/bbyo-near-you/regions/wisconsin-reg
 ion/wi-oneg-4-12-19
DTEND:20190412T170100
DTSTAMP:20260425T235251Z
DTSTART:20190412T170000
LOCATION:BBYO Offices
SEQUENCE:0
SUMMARY:WI - Oneg - 4.12.19
UID:00390dae-1194-489a-b2bb-a416221b517c
END:VEVENT
END:VCALENDAR
