BEGIN:VCALENDAR
PRODID:-//github.com/rianjs/ical.net//NONSGML ical.net 4.0//EN
VERSION:2.0
BEGIN:VEVENT
DESCRIPTION:Details:\nhttps://bbyo.org/bbyo-near-you/regions/ohio-northern
 -region/onr-stands-with-israel
DTEND:20231022T153000
DTSTAMP:20260424T145046Z
DTSTART:20231022T140000
LOCATION:Cleveland JCC
SEQUENCE:0
SUMMARY:ONR Stands with Israel
UID:64b5e4c2-c5dc-42e3-947d-a919f04234d0
END:VEVENT
END:VCALENDAR
