BEGIN:VCALENDAR
PRODID:-//github.com/rianjs/ical.net//NONSGML ical.net 4.0//EN
VERSION:2.0
BEGIN:VEVENT
DESCRIPTION:Details:\nhttps://bbyo.org/bbyo-near-you/regions/wisconsin-reg
 ion/wi-winter-regional-convention-(wrc)-2021
DTEND:20211205T150000
DTSTAMP:20260423T200442Z
DTSTART:20211203T160000
LOCATION:
SEQUENCE:0
SUMMARY:WI - Winter Regional Convention (WRC) 2021
UID:be811ccd-d076-48a8-a901-14dc4d40c861
END:VEVENT
END:VCALENDAR
