BEGIN:VCALENDAR
PRODID:-//github.com/rianjs/ical.net//NONSGML ical.net 4.0//EN
VERSION:2.0
BEGIN:VEVENT
DESCRIPTION:Details:\nhttps://bbyo.org/bbyo-near-you/regions/northern-regi
 on-east-northern-virginia-council/northern-virginia-council-convention-20
 19\n\nSummary:\nJoin Northern Virginia Council BBYO for our 2019 Council 
 Convention!
DTEND:20190602T110000
DTSTAMP:20260423T062029Z
DTSTART:20190531T180000
LOCATION:McLean Virginia
SEQUENCE:0
SUMMARY:Northern Virginia Council Convention 2019
UID:d4c0d645-23b5-484f-bee4-9916c55f08ea
END:VEVENT
END:VCALENDAR
