BEGIN:VCALENDAR
PRODID:-//github.com/rianjs/ical.net//NONSGML ical.net 4.0//EN
VERSION:2.0
BEGIN:VEVENT
DESCRIPTION:Details:\nhttps://bbyo.org/bbyo-near-you/regions/wisconsin-reg
 ion/wi-yearbook
DTEND:20190602T110000
DTSTAMP:20260423T114420Z
DTSTART:20190602T090000
LOCATION:
SEQUENCE:0
SUMMARY:WI - Yearbook
UID:2fa12c85-7e4e-4664-87c6-fa91b7c49331
END:VEVENT
END:VCALENDAR
