BEGIN:VCALENDAR
PRODID:-//github.com/rianjs/ical.net//NONSGML ical.net 4.0//EN
VERSION:2.0
BEGIN:VEVENT
DESCRIPTION:Details:\nhttps://bbyo.org/bbyo-near-you/regions/big-apple-reg
 ion/bar-rock-can-roll-bowling-and-can-drive!\n\nSummary:\nBring a can and
  bring a friend to BAR's Rock-Can-Roll bowling event! $15 prepay pay or $
 20 at the door gets you shoe rental and 2 hours of unlimited bowling. Bri
 ng 2 friends who are not BBYO
DTEND:20161120T160000
DTSTAMP:20260420T230917Z
DTSTART:20161120T133000
LOCATION:Jib Lanes
SEQUENCE:0
SUMMARY:BAR Rock-Can-Roll Bowling and Can Drive!
UID:379cb69f-c145-438c-a939-35ebe7541ebb
END:VEVENT
END:VCALENDAR
