BEGIN:VCALENDAR
PRODID:-//github.com/rianjs/ical.net//NONSGML ical.net 4.0//EN
VERSION:2.0
BEGIN:VEVENT
DESCRIPTION:Details:\nhttps://bbyo.org/bbyo-near-you/regions/mid-america-r
 egion-st-louis-council/st-louis-fall-kickoff
DTEND:20220828T160000
DTSTAMP:20260425T182828Z
DTSTART:20220828T130000
LOCATION:Maryland Heights Missouri
SEQUENCE:0
SUMMARY:St. Louis Fall Kickoff
UID:e86d6fea-259d-41e7-a15f-22caff590fe6
END:VEVENT
END:VCALENDAR
