BEGIN:VCALENDAR
PRODID:-//github.com/rianjs/ical.net//NONSGML ical.net 4.0//EN
VERSION:2.0
BEGIN:VEVENT
DESCRIPTION:Details:\nhttps://bbyo.org/bbyo-near-you/regions/connecticut-v
 alley-region/cvr-spring-kallah-2024-4-to-a-room
DTEND:20240407T150000
DTSTAMP:20260422T202316Z
DTSTART:20240405T150000
LOCATION:
SEQUENCE:0
SUMMARY:CVR Spring Kallah 2024 4 to a room
UID:3fb07a43-4c1a-46f0-9740-8032cf0740d9
END:VEVENT
END:VCALENDAR
