BEGIN:VCALENDAR
PRODID:-//github.com/rianjs/ical.net//NONSGML ical.net 4.0//EN
VERSION:2.0
BEGIN:VEVENT
DESCRIPTION:Details:\nhttps://bbyo.org/bbyo-near-you/regions/rocky-mountai
 n-region/rmr-aza-8th-grade-lasertag\n\nSummary:\nJoin RMR's AZA chapters 
 for a taste of BBYO!
DTEND:20200209T153000
DTSTAMP:20260420T100520Z
DTSTART:20200209T133000
LOCATION:LaserQuest on Hampden
SEQUENCE:0
SUMMARY:RMR AZA 8th Grade Lasertag
UID:ce18a361-ed32-4ace-87b0-d47073d7a85b
END:VEVENT
END:VCALENDAR
