BEGIN:VCALENDAR
PRODID:-//github.com/rianjs/ical.net//NONSGML ical.net 4.0//EN
VERSION:2.0
BEGIN:VEVENT
DESCRIPTION:Details:\nhttps://bbyo.org/bbyo-near-you/regions/great-midwest
 -region/good-deeds-day-jserve\n\nSummary:\nJoin all Jewish teens and fami
 lies from the Chicagoland area and all around the world as we participate
  in Good Deeds Day! Come for Social Media influencer Sam Whiteout and sta
 y for a variety of Social Action projects created for the entire family t
 o participate in!
DTEND:20190407T163000
DTSTAMP:20260425T235216Z
DTSTART:20190407T130000
LOCATION:Northbrook  Illinois
SEQUENCE:0
SUMMARY:Good Deeds Day JServe
UID:78d88c99-6a04-4617-8ada-18ab6cab240d
END:VEVENT
END:VCALENDAR
