BEGIN:VCALENDAR
PRODID:-//github.com/rianjs/ical.net//NONSGML ical.net 4.0//EN
VERSION:2.0
BEGIN:VEVENT
DESCRIPTION:Details:\nhttps://bbyo.org/bbyo-near-you/regions/lonestar-regi
 on/39th-aza-regional-board-life
DTEND:20240127T211500
DTSTAMP:20260425T182753Z
DTSTART:20240127T201500
LOCATION:Houston Texas
SEQUENCE:0
SUMMARY:39th AZA Regional Board Life
UID:148d7eef-11f7-4010-bacf-4e5b9680bae8
END:VEVENT
END:VCALENDAR
