BEGIN:VCALENDAR
PRODID:-//github.com/rianjs/ical.net//NONSGML ical.net 4.0//EN
VERSION:2.0
BEGIN:VEVENT
DESCRIPTION:Details:\nhttps://bbyo.org/bbyo-near-you/regions/new-england-r
 egion/ner-new-england-region-winter-kallah-(pc-3020)\n\nSummary:\nJoin us
  for Winter Kallah! This registration is for New England Region members. 
 Convention includes peer led programs around leadership\, and brotherhood
 /sisterhood\; guest speakers on Saturda
DTEND:20170129T140000
DTSTAMP:20260422T143910Z
DTSTART:20170127T160000
LOCATION:Hilton Hartford
SEQUENCE:0
SUMMARY:NER - New England Region Winter Kallah (PC 3020)
UID:0f7d87a6-eea4-4c46-aa23-a6fbcb6576b5
END:VEVENT
END:VCALENDAR
