BEGIN:VCALENDAR
PRODID:-//github.com/rianjs/ical.net//NONSGML ical.net 4.0//EN
VERSION:2.0
BEGIN:VEVENT
DESCRIPTION:Details:\nhttps://bbyo.org/bbyo-near-you/regions/north-texas-o
 klahoma-region/nto-global-shabbat-hannukah-party
DTEND:20221210T210000
DTSTAMP:20260423T115056Z
DTSTART:20221210T183000
LOCATION:Temple Emanu-El
SEQUENCE:0
SUMMARY:NTO Global Shabbat Hannukah Party
UID:60f30ca4-af6f-43fa-9adb-8520d742570b
END:VEVENT
END:VCALENDAR
