BEGIN:VCALENDAR
PRODID:-//github.com/rianjs/ical.net//NONSGML ical.net 4.0//EN
VERSION:2.0
BEGIN:VEVENT
DESCRIPTION:Details:\nhttps://bbyo.org/bbyo-near-you/regions/mountain-regi
 on/ic-2022-spirit-pack
DTEND;VALUE=DATE:20220219
DTSTAMP:20260421T163209Z
DTSTART;VALUE=DATE:20220218
LOCATION:
SEQUENCE:0
SUMMARY:IC 2022 Spirit Pack
UID:7a8776b9-9834-461e-8919-c3096ca99831
END:VEVENT
END:VCALENDAR
