BEGIN:VCALENDAR
PRODID:-//github.com/rianjs/ical.net//NONSGML ical.net 4.0//EN
VERSION:2.0
BEGIN:VEVENT
DESCRIPTION:Details:\nhttps://bbyo.org/bbyo-near-you/regions/mid-america-r
 egion-kansas-city-council/kansas-city-global-shabbat\n\nSummary:\nHosted 
 by Miller Brown & Marissa McLain - Join us for a camp style Shabbat servi
 ce with the amazing song leader\, Laura Payne and Rabbi Brazner! We will 
 have a dessert oneg to follow. We cannot wait to celebrate Global Shabbat
  with you\, please share with all your Jewish friends!
DTEND:20221209T200000
DTSTAMP:20260421T163617Z
DTSTART:20221209T180000
LOCATION:Overland Park Kansas
SEQUENCE:0
SUMMARY:Kansas City Global Shabbat
UID:5517fef4-dc28-4833-aecc-ab977427b9a0
END:VEVENT
END:VCALENDAR
