BEGIN:VCALENDAR
PRODID:-//github.com/rianjs/ical.net//NONSGML ical.net 4.0//EN
VERSION:2.0
BEGIN:VEVENT
DESCRIPTION:Details:\nhttps://bbyo.org/bbyo-near-you/regions/south-jersey-
 region/azaa-flag-football-(1)
DTEND:20190922T130000
DTSTAMP:20260422T113350Z
DTSTART:20190922T090000
LOCATION:Katz JCC field
SEQUENCE:0
SUMMARY:AZAA Flag Football
UID:c05cf3e2-14a7-4fb8-a12f-e44b77c85215
END:VEVENT
END:VCALENDAR
