BEGIN:VCALENDAR
PRODID:-//github.com/rianjs/ical.net//NONSGML ical.net 4.0//EN
VERSION:2.0
BEGIN:VEVENT
DESCRIPTION:Details:\nhttps://bbyo.org/bbyo-near-you/regions/gold-coast-re
 gion/src-snack-bag-nashville-fundraiser\n\nSummary:\nGold Coast Region's 
 heart goes out to everyone in Nashville who was effected by the tornadoes
 . Please join us by purchasing a snack bag that you will be able to pick 
 up prior to states. \n\n \n
DTEND;VALUE=DATE:20200315
DTSTAMP:20260425T235215Z
DTSTART;VALUE=DATE:20200313
LOCATION:SRC - States
SEQUENCE:0
SUMMARY:SRC Snack Bag - Nashville Fundraiser
UID:8c386deb-1f16-4fdb-b82f-4d9578842c13
END:VEVENT
END:VCALENDAR
