BEGIN:VCALENDAR
PRODID:-//github.com/rianjs/ical.net//NONSGML ical.net 4.0//EN
VERSION:2.0
BEGIN:VEVENT
DESCRIPTION:Details:\nhttps://bbyo.org/bbyo-near-you/regions/manhattan-reg
 ion/winter-kickoff-mhr-bbyo-goes-to-the-knicks-game!
DTEND:20230205T230000
DTSTAMP:20260423T200924Z
DTSTART:20230204T190000
LOCATION:New York  New York
SEQUENCE:0
SUMMARY:Winter Kickoff: MHR BBYO Goes to the Knicks Game!
UID:18c8b416-ef15-4529-bbb9-7cdc0caee6de
END:VEVENT
END:VCALENDAR
