BEGIN:VCALENDAR
PRODID:-//github.com/rianjs/ical.net//NONSGML ical.net 4.0//EN
VERSION:2.0
BEGIN:VEVENT
DESCRIPTION:Details:\nhttps://bbyo.org/bbyo-near-you/regions/lake-ontario-
 region/lock-in\n\nSummary:\nJoin us for an all-night Lock-In event that t
 akes place on Saturday March 16  at 11:30pm to Sunday March 17 at 7:00am.
  This year's event will feature all night access to Area51 Lasertag and
DTEND:20190317T070000
DTSTAMP:20260422T055053Z
DTSTART:20190316T233000
LOCATION:Area 51 Lasertag
SEQUENCE:0
SUMMARY:Lock-In
UID:41e91f7d-0f42-41f8-a6d0-9b47a29d6268
END:VEVENT
END:VCALENDAR
