BEGIN:VCALENDAR
PRODID:-//github.com/rianjs/ical.net//NONSGML ical.net 4.0//EN
VERSION:2.0
BEGIN:VEVENT
DESCRIPTION:Details:\nhttps://bbyo.org/bbyo-near-you/regions/hudson-valley
 -region/glow-with-the-flow\,-westchester-regional-kickoff-p\n\nSummary:\n
 Kick Off the Year and "Glow With The Flow" at our Regional Neon/Glow Them
 ed Dance! Wear your best neon and bring your best appetite- ice cream sun
 dae bar\, churros bar\, pretzel bar\, fried Ore
DTEND:20160917T223000
DTSTAMP:20260423T200257Z
DTSTART:20160917T200000
LOCATION:Westchester Reform Temple
SEQUENCE:0
SUMMARY:Glow With The Flow\, Westchester Regional Kickoff Party!
UID:f1c67eed-9e24-4f04-b184-6d6ac75269a7
END:VEVENT
END:VCALENDAR
