BEGIN:VCALENDAR
PRODID:-//github.com/rianjs/ical.net//NONSGML ical.net 4.0//EN
VERSION:2.0
BEGIN:VEVENT
DESCRIPTION:Details:\nhttps://bbyo.org/bbyo-near-you/regions/new-england-r
 egion/ri-mitzvah-day\n\nSummary:\nJoin us for a teen-led day of community
  service for all ages! More info to follow.
DTEND:20200329T160000
DTSTAMP:20260425T182917Z
DTSTART:20200329T130000
LOCATION:Providence Rhode Island
SEQUENCE:0
SUMMARY:RI Mitzvah Day
UID:2114f855-439e-4cfb-9066-c358c4c3941c
END:VEVENT
END:VCALENDAR
